BEGIN:VCALENDAR
VERSION:2.0
PRODID:spatie/icalendar-generator
DESCRIPTION:Events from Sankofa Travels With Kofi
X-WR-CALDESC:Events from Sankofa Travels With Kofi
REFRESH-INTERVAL;VALUE=DURATION:PT1440M
X-PUBLISHED-TTL:PT1440M
BEGIN:VTIMEZONE
TZID:America/New_York
BEGIN:STANDARD
DTSTART:20251102T020000Z
TZOFFSETFROM:-0400
TZOFFSETTO:-0500
END:STANDARD
BEGIN:DAYLIGHT
DTSTART:20260308T020000Z
TZOFFSETFROM:-0500
TZOFFSETTO:-0400
END:DAYLIGHT
END:VTIMEZONE
BEGIN:VTIMEZONE
TZID:UTC
BEGIN:STANDARD
DTSTART:20250725T132024Z
TZOFFSETFROM:+0000
TZOFFSETTO:+0000
END:STANDARD
END:VTIMEZONE
BEGIN:VEVENT
UID:6-6
DTSTAMP:20260421T132024Z
SUMMARY:Sankofa Diaspora Fest
LOCATION:Metropolitan Baptist Church 1021 Halifax St  Peterburg VA 23803
ORGANIZER;CN=Kofi:MAILTO:kofiannan321@gmail.com
DTSTART;TZID=America/New_York:20260418T120000
DTEND;TZID=America/New_York:20260418T170000
X-ALT-DESC;FMTTYPE=TEXT/HTML:<p>Celebrate culture\, creativity\, and commun
 ity at Diaspora Fest! This fun\, family-friendly festival brings together 
 the music\, food\, art\, and traditions of the global Black diaspora—fro
 m Africa and the Caribbean to Latin America and African American culture. 
 Enjoy live performances\, local vendors\, interactive activities\, and a v
 ibrant atmosphere for all ages. A global experience\, right here at home.</p>\n
CATEGORIES:General
URL;VALUE=URI:https://sankofatravelswithkofi.org/mc-events/sankofa-diaspora
 -fest/
METHOD:PUBLISH
END:VEVENT
END:VCALENDAR